BEGIN:VCALENDAR
VERSION:2.0
PRODID:-//SV Neubeckum 1919 e.V. - ECPv6.15.17.1//NONSGML v1.0//EN
CALSCALE:GREGORIAN
METHOD:PUBLISH
X-WR-CALNAME:SV Neubeckum 1919 e.V.
X-ORIGINAL-URL:https://www.sv-neubeckum.de
X-WR-CALDESC:Veranstaltungen für SV Neubeckum 1919 e.V.
REFRESH-INTERVAL;VALUE=DURATION:PT1H
X-Robots-Tag:noindex
X-PUBLISHED-TTL:PT1H
BEGIN:VTIMEZONE
TZID:Europe/Berlin
BEGIN:DAYLIGHT
TZOFFSETFROM:+0100
TZOFFSETTO:+0200
TZNAME:CEST
DTSTART:20160327T010000
END:DAYLIGHT
BEGIN:STANDARD
TZOFFSETFROM:+0200
TZOFFSETTO:+0100
TZNAME:CET
DTSTART:20161030T010000
END:STANDARD
BEGIN:DAYLIGHT
TZOFFSETFROM:+0100
TZOFFSETTO:+0200
TZNAME:CEST
DTSTART:20170326T010000
END:DAYLIGHT
BEGIN:STANDARD
TZOFFSETFROM:+0200
TZOFFSETTO:+0100
TZNAME:CET
DTSTART:20171029T010000
END:STANDARD
BEGIN:DAYLIGHT
TZOFFSETFROM:+0100
TZOFFSETTO:+0200
TZNAME:CEST
DTSTART:20180325T010000
END:DAYLIGHT
BEGIN:STANDARD
TZOFFSETFROM:+0200
TZOFFSETTO:+0100
TZNAME:CET
DTSTART:20181028T010000
END:STANDARD
END:VTIMEZONE
BEGIN:VEVENT
DTSTART;TZID=Europe/Berlin:20170719T190000
DTEND;TZID=Europe/Berlin:20170719T210000
DTSTAMP:20260421T105047
CREATED:20170713T114742Z
LAST-MODIFIED:20170713T114742Z
UID:15415-1500490800-1500498000@www.sv-neubeckum.de
SUMMARY:Vorbereitung: SpVg Beckum 2 - SV Neubeckum 2
DESCRIPTION:
URL:https://www.sv-neubeckum.de/event/vorbereitung-spvg-beckum-2-sv-neubeckum-2/
LOCATION:Römer Kampfbahn\, Vorhelmer Str. 73\, Beckum\, NRW\, 59269\, Deutschland
CATEGORIES:Fußball,Senioren,Vorbereitung
END:VEVENT
END:VCALENDAR